BEGIN:VCALENDAR
PRODID:-//eluceo/ical//2.0/EN
VERSION:2.0
CALSCALE:GREGORIAN
BEGIN:VEVENT
UID:3ec9978d21af9a0ca61521830d79f532
DTSTAMP:20260425T212209Z
SUMMARY:Transparente Küche
DESCRIPTION:Auf der kaminbeheizten Veranda werden Suppen\, Handsnacks oder 
 Gerichte a la Carte serviert und im hauseigenen Restaurant kann man dem K
 üchenchef durch eine Glasscheibe beim Kochen beobachten. 
URL:https://www.meinplaner.com
DTSTART;TZID=Europe/Amsterdam:20260426T110000
DTEND;TZID=Europe/Amsterdam:20260426T170000
LOCATION:Am Park 9b\, 08396 Waldenburg
BEGIN:VALARM
ACTION:DISPLAY
DESCRIPTION:Erinnerung: Transparente Küche beginnt in 1 Stunde
TRIGGER;RELATED=END:-PT1H
END:VALARM
END:VEVENT
END:VCALENDAR
