BEGIN:VCALENDAR
PRODID:-//eluceo/ical//2.0/EN
VERSION:2.0
CALSCALE:GREGORIAN
BEGIN:VEVENT
UID:3096de36fd21898069450a45c90e9d4a
DTSTAMP:20260421T044358Z
SUMMARY:Ungarische Gastfreundschaft in rustikalem Ambiente
DESCRIPTION:Authentische ungarische Küche in der Betyár Csárda in Chemni
 tz: Kesselgulasch\, Paprikahuhn mit Nockerln und Gundel-Palatschinken sorg
 en für Genuss mit Tradition. Im Sommer ergänzt ein idyllischer Biergarte
 n das kulinarische Erlebnis.
URL:https://www.meinplaner.com
DTSTART;TZID=Europe/Amsterdam:20260421T173000
DTEND;TZID=Europe/Amsterdam:20260421T220000
LOCATION:Beyerstr. 28\, 09113 Chemnitz
BEGIN:VALARM
ACTION:DISPLAY
DESCRIPTION:Erinnerung: Ungarische Gastfreundschaft in rustikalem Ambiente 
 beginnt in 1 Stunde
TRIGGER;RELATED=END:-PT1H
END:VALARM
END:VEVENT
BEGIN:VEVENT
UID:ba364d717d43152a1fabd66fb1e839d2
DTSTAMP:20260421T044358Z
SUMMARY:Ungarische Gastfreundschaft in rustikalem Ambiente
DESCRIPTION:Authentische ungarische Küche in der Betyár Csárda in Chemni
 tz: Kesselgulasch\, Paprikahuhn mit Nockerln und Gundel-Palatschinken sorg
 en für Genuss mit Tradition. Im Sommer ergänzt ein idyllischer Biergarte
 n das kulinarische Erlebnis.
URL:https://www.meinplaner.com
DTSTART;TZID=Europe/Amsterdam:20260421T113000
DTEND;TZID=Europe/Amsterdam:20260421T140000
LOCATION:Beyerstr. 28\, 09113 Chemnitz
BEGIN:VALARM
ACTION:DISPLAY
DESCRIPTION:Erinnerung: Ungarische Gastfreundschaft in rustikalem Ambiente 
 beginnt in 1 Stunde
TRIGGER;RELATED=END:-PT1H
END:VALARM
END:VEVENT
END:VCALENDAR
