BEGIN:VCALENDAR
PRODID:-//eluceo/ical//2.0/EN
VERSION:2.0
CALSCALE:GREGORIAN
BEGIN:VEVENT
UID:30deb95fd8f602906e31b9a34e7321c6
DTSTAMP:20260422T201235Z
SUMMARY:Rossini das Menü 2026
DESCRIPTION:Im Ristorante Di Sopra steht traditionelle italienische Küche 
 im Mittelpunkt. Das Menü überzeugt mit einer feinen Vorspeise aus Seesai
 bling\, einem zarten Black-Angus-Rückensteak als Hauptgang und einem kös
 tlichen Dessert.
URL:https://www.meinplaner.com
DTSTART;TZID=Europe/Amsterdam:20260422T173000
DTEND;TZID=Europe/Amsterdam:20260422T223000
LOCATION:Düsseldorfer Platz 1\, 09111 Chemnitz
BEGIN:VALARM
ACTION:DISPLAY
DESCRIPTION:Erinnerung: Rossini das Menü 2026 beginnt in 1 Stunde
TRIGGER;RELATED=END:-PT1H
END:VALARM
END:VEVENT
BEGIN:VEVENT
UID:ce9a8f7957bfb5026249311b02cd17c9
DTSTAMP:20260422T201235Z
SUMMARY:Rossini das Menü 2026
DESCRIPTION:Im Ristorante Di Sopra steht traditionelle italienische Küche 
 im Mittelpunkt. Das Menü überzeugt mit einer feinen Vorspeise aus Seesai
 bling\, einem zarten Black-Angus-Rückensteak als Hauptgang und einem kös
 tlichen Dessert.
URL:https://www.meinplaner.com
DTSTART;TZID=Europe/Amsterdam:20260422T113000
DTEND;TZID=Europe/Amsterdam:20260422T143000
LOCATION:Düsseldorfer Platz 1\, 09111 Chemnitz
BEGIN:VALARM
ACTION:DISPLAY
DESCRIPTION:Erinnerung: Rossini das Menü 2026 beginnt in 1 Stunde
TRIGGER;RELATED=END:-PT1H
END:VALARM
END:VEVENT
END:VCALENDAR
