BEGIN:VCALENDAR
PRODID:-//eluceo/ical//2.0/EN
VERSION:2.0
CALSCALE:GREGORIAN
BEGIN:VEVENT
UID:04879f364e1d630790d65ecad72b8582
DTSTAMP:20260419T164319Z
SUMMARY:Steak-Tasting
DESCRIPTION:Ein Abend ganz im Zeichen des Fleisches: Zehn verschiedene Cuts
  von Rind und Schwein werden gemeinsam zerlegt\, gegrillt und direkt genos
 sen. Der Fokus liegt klar auf dem puren Fleischgenuss – Beilagen bewusst
  reduziert\, Geschmack kompromisslos.
URL:https://www.meinplaner.com
DTSTART;TZID=Europe/Amsterdam:20260523T170000
DTEND;TZID=Europe/Amsterdam:20260523T210000
LOCATION:Zschopauer Str.  209\, 09126 Chemnitz
BEGIN:VALARM
ACTION:DISPLAY
DESCRIPTION:Erinnerung: Steak-Tasting beginnt in 1 Stunde
TRIGGER;RELATED=END:-PT1H
END:VALARM
END:VEVENT
END:VCALENDAR
