BEGIN:VCALENDAR
PRODID:-//eluceo/ical//2.0/EN
VERSION:2.0
CALSCALE:GREGORIAN
BEGIN:VEVENT
UID:2cb58da20d961ba16587c3d3dfc1bc57
DTSTAMP:20260426T001601Z
SUMMARY:Bläsergottesdienste zur Jahreslosung
DESCRIPTION:Die Bläser des vereinigten Posaunenchores Limbach-Pleißa gest
 alten in den Kirchen der Region Bläsergottesdienste zur Jahreslosung. Fes
 tliche Musik begleitet die Andacht und lädt zum gemeinsamen Hören und In
 nehalten ein.
URL:https://www.meinplaner.com
DTSTART;TZID=Europe/Amsterdam:20260503T093000
DTEND;TZID=Europe/Amsterdam:20260503T113000
LOCATION:Kirchstr. 29\, 09212 Limbach-Oberfrohna
BEGIN:VALARM
ACTION:DISPLAY
DESCRIPTION:Erinnerung: Bläsergottesdienste zur Jahreslosung beginnt in 1 
 Stunde
TRIGGER;RELATED=END:-PT1H
END:VALARM
END:VEVENT
END:VCALENDAR
