BEGIN:VCALENDAR
PRODID:-//eluceo/ical//2.0/EN
VERSION:2.0
CALSCALE:GREGORIAN
BEGIN:VEVENT
UID:a209298a0dc82b06918c75ac4266b68f
DTSTAMP:20260425T183455Z
SUMMARY:Konzertabend mit Slawa Kaljushny
DESCRIPTION:Aus einem musikalischen Elternhaus stammend\, entdeckte Slawa f
 rüh seine Leidenschaft fürs Singen und Klavierspielen. Nach dem Studium 
 an der Popakademie Baden-Württemberg arbeitet er als Singer/Songwriter an
  eigener Musik. Ein Abend voller berührender Klänge.
URL:https://www.meinplaner.com
DTSTART;TZID=Europe/Amsterdam:20260510T193000
DTEND;TZID=Europe/Amsterdam:20260510T213000
LOCATION:An der Silber-Therme 1\, 09429 Wolkenstein
BEGIN:VALARM
ACTION:DISPLAY
DESCRIPTION:Erinnerung: Konzertabend mit Slawa Kaljushny beginnt in 1 Stund
 e
TRIGGER;RELATED=END:-PT1H
END:VALARM
END:VEVENT
END:VCALENDAR
