BEGIN:VCALENDAR
PRODID:-//eluceo/ical//2.0/EN
VERSION:2.0
CALSCALE:GREGORIAN
BEGIN:VEVENT
UID:d6991b2dcbad4571fa4b4751908878f7
DTSTAMP:20260420T235221Z
SUMMARY:Sportfest des SVL
DESCRIPTION:Das Sportfest des SV-Leukersdorf bietet spannende Wettbewerbe m
 it attraktiven Preisen\, stellt die Sportvereine vor\, begleitet die Wettk
 ämpfe und ermöglicht es\, schnell Kontakte zu knüpfen und vielleicht ei
 n neues Hobby zu finden.
URL:https://www.meinplaner.com
DTSTART;TZID=Europe/Amsterdam:20260421T170000
DTEND;TZID=Europe/Amsterdam:20260421T210000
LOCATION:Siedlerstr. 28\, 09387 Jahnsdorf/Erzgeb.
BEGIN:VALARM
ACTION:DISPLAY
DESCRIPTION:Erinnerung: Sportfest des SVL beginnt in 1 Stunde
TRIGGER;RELATED=END:-PT1H
END:VALARM
END:VEVENT
END:VCALENDAR
