BEGIN:VCALENDAR
PRODID:-//eluceo/ical//2.0/EN
VERSION:2.0
CALSCALE:GREGORIAN
BEGIN:VEVENT
UID:90ae5d18dfc07b33f27b071a7a5f7cee
DTSTAMP:20260421T143149Z
SUMMARY:Kräuterwanderung
DESCRIPTION:Bei einer Führung werden heimische Wildkräuter entdeckt und b
 estimmt. Dabei gibt es praktische Tipps zu Verwendung und Anwendung in Kü
 che und Alltag.
URL:https://www.meinplaner.com
DTSTART;TZID=Europe/Amsterdam:20260426T100000
DTEND;TZID=Europe/Amsterdam:20260426T120000
LOCATION:Am Waldsportplatz  2\, 09217 Burgstädt
BEGIN:VALARM
ACTION:DISPLAY
DESCRIPTION:Erinnerung: Kräuterwanderung beginnt in 1 Stunde
TRIGGER;RELATED=END:-PT1H
END:VALARM
END:VEVENT
END:VCALENDAR
