BEGIN:VCALENDAR
PRODID:-//eluceo/ical//2.0/EN
VERSION:2.0
CALSCALE:GREGORIAN
BEGIN:VEVENT
UID:92781df15e8799629a981333720dcfdb
DTSTAMP:20260421T215957Z
SUMMARY:Weihnachts- & Spielzeugmuseum
DESCRIPTION:In der funkelnden Sammlung erzgebirgischer Volkskunst & liebvol
 ler Spielideen sind die berührende Geschichte und Tradition erzgebirgisch
 er Bergleute zu erleben. Eine echte Pyramide dreht Besucher hinein in ihre
  Welt & zeigt\, wie aus ihnen "Männelmacher" wurden
URL:https://www.meinplaner.com
DTSTART;TZID=Europe/Amsterdam:20260422T100000
DTEND;TZID=Europe/Amsterdam:20260422T180000
LOCATION:Schlossberg 1\, 09430 Drebach
BEGIN:VALARM
ACTION:DISPLAY
DESCRIPTION:Erinnerung: Weihnachts- & Spielzeugmuseum beginnt in 1 Stunde
TRIGGER;RELATED=END:-PT1H
END:VALARM
END:VEVENT
END:VCALENDAR
