BEGIN:VCALENDAR
PRODID:-//eluceo/ical//2.0/EN
VERSION:2.0
CALSCALE:GREGORIAN
BEGIN:VEVENT
UID:6a978f2abe7bd061d03a803da7cf2561
DTSTAMP:20260421T210126Z
SUMMARY:B2Brunch im Audi Hangar
DESCRIPTION:Im Audi Hangar findet ein exklusives Netzwerktreffen zur Elektr
 omobilität statt\, das aktuelle Einblicke in die Volkswagen Group sowie z
 ukunftsweisende Strategien und Lösungen für Unternehmen bietet\, gepaart
  mit wertvollem Networking und persönlichem Austausch.
URL:https://www.meinplaner.com
DTSTART;TZID=Europe/Amsterdam:20260424T090000
DTEND;TZID=Europe/Amsterdam:20260424T110000
LOCATION:Röhrsdorfer Allee 8\, 09247 Chemnitz
BEGIN:VALARM
ACTION:DISPLAY
DESCRIPTION:Erinnerung: B2Brunch im Audi Hangar beginnt in 1 Stunde
TRIGGER;RELATED=END:-PT1H
END:VALARM
END:VEVENT
END:VCALENDAR
