BEGIN:VCALENDAR
PRODID:-//eluceo/ical//2.0/EN
VERSION:2.0
CALSCALE:GREGORIAN
BEGIN:VEVENT
UID:07bb8b43eb97a806083dfc3a1defb3da
DTSTAMP:20260426T011236Z
SUMMARY:Auszeit im Grünen\, am Teich und im "Bärenzwinger"
DESCRIPTION:Fußläufig vom Tierpark und dem angrenzenden Spielplatz zu err
 eichen liegt mitten im Grünen direkt am Pelzmühlenteich die Pelzmühle. 
 Bei regionaler\, gutbürgerlicher oder internationaler Küche können Gäs
 te hier entspannen und genießen - auch im "Bärenzwinger".  
URL:https://www.meinplaner.com
DTSTART;TZID=Europe/Amsterdam:20260426T110000
DTEND;TZID=Europe/Amsterdam:20260426T220000
LOCATION:Pelzmühlenstr. 17\, 09117 Chemnitz
BEGIN:VALARM
ACTION:DISPLAY
DESCRIPTION:Erinnerung: Auszeit im Grünen\, am Teich und im "Bärenzwinger
 " beginnt in 1 Stunde
TRIGGER;RELATED=END:-PT1H
END:VALARM
END:VEVENT
END:VCALENDAR
