BEGIN:VCALENDAR
PRODID:-//eluceo/ical//2.0/EN
VERSION:2.0
CALSCALE:GREGORIAN
BEGIN:VEVENT
UID:e32d5bbe20bc276b6d65ded382037f3c
DTSTAMP:20260419T142249Z
SUMMARY:Vortrag und Gespräch
DESCRIPTION:Katrin Rohnstock stellt ihr Buch über die Folgen der Treuhandp
 olitik vor. Zeitzeugen berichten von Umbrüchen\, Betriebsschließungen un
 d verlorenen Lebenswelten. Im Gespräch werden Erfahrungen aus Ostdeutschl
 and sichtbar gemacht und diskutiert.
URL:https://www.meinplaner.com
DTSTART;TZID=Europe/Amsterdam:20260421T170000
DTEND;TZID=Europe/Amsterdam:20260421T191500
LOCATION:Moritzstr. 20\, 09111 Chemnitz
BEGIN:VALARM
ACTION:DISPLAY
DESCRIPTION:Erinnerung: Vortrag und Gespräch beginnt in 1 Stunde
TRIGGER;RELATED=END:-PT1H
END:VALARM
END:VEVENT
END:VCALENDAR
