BEGIN:VCALENDAR
PRODID:-//eluceo/ical//2.0/EN
VERSION:2.0
CALSCALE:GREGORIAN
BEGIN:VEVENT
UID:2fb0bd56e3f16bac31f3d33e86c80ec2
DTSTAMP:20260425T135447Z
SUMMARY:Gestört aber GeiL
DESCRIPTION:Das erfolgreiche DJ Duo um Nico Wendel\, begeistert seit 2010 d
 ie Commercial House Szene und hat sich mit Auftritten auf großen Festival
 s sowie zahlreichen Gold- und Platin-Auszeichnungen als eines der erfolgre
 ichsten Acts Deutschlands etabliert.
URL:https://www.meinplaner.com
DTSTART;TZID=Europe/Amsterdam:20260703T193000
DTEND;TZID=Europe/Amsterdam:20260703T220000
LOCATION:Wasserschloßweg 6\, 09123 Chemnitz
BEGIN:VALARM
ACTION:DISPLAY
DESCRIPTION:Erinnerung: Gestört aber GeiL beginnt in 1 Stunde
TRIGGER;RELATED=END:-PT1H
END:VALARM
END:VEVENT
END:VCALENDAR
