BEGIN:VCALENDAR
PRODID:-//eluceo/ical//2.0/EN
VERSION:2.0
CALSCALE:GREGORIAN
BEGIN:VEVENT
UID:939c591437205b200bffd866da0f41f2
DTSTAMP:20260419T155322Z
SUMMARY:Blossom - Das Frühlingskonzert
DESCRIPTION:Erwacht aus dem Winterschlaf mit Musik von JETberry. Gefühlvol
 l und persönlich\, in entspannter Atmosphäre erklingen Songs aus dem Alb
 um „Fairytales“ sowie neue Kompositionen. Jazz\, Pop und Fusion versch
 melzen zu einem warmen\, inspirierenden Konzerterlebnis.
URL:https://www.meinplaner.com
DTSTART;TZID=Europe/Amsterdam:20260425T180000
DTEND;TZID=Europe/Amsterdam:20260425T213000
LOCATION:Kappelbachgasse 1\, 09116 Chemnitz
BEGIN:VALARM
ACTION:DISPLAY
DESCRIPTION:Erinnerung: Blossom - Das Frühlingskonzert beginnt in 1 Stunde
TRIGGER;RELATED=END:-PT1H
END:VALARM
END:VEVENT
END:VCALENDAR
