BEGIN:VCALENDAR
PRODID:-//eluceo/ical//2.0/EN
VERSION:2.0
CALSCALE:GREGORIAN
BEGIN:VEVENT
UID:ba2cb95e9dd0b333f53743f0b5f95bd1
DTSTAMP:20260425T165845Z
SUMMARY:Hoppers
DESCRIPTION:In HOPPERS entdecken Wissenschaftler eine Technik\, mit der men
 schliches Bewusstsein in lebensechte Robotertiere springt. So können Mens
 chen als Tiere mit Tieren sprechen. Mabel entdeckt dabei unglaubliche Gehe
 imnisse der Tierwelt.
URL:https://www.meinplaner.com
DTSTART;TZID=Europe/Amsterdam:20260426T143000
DTEND;TZID=Europe/Amsterdam:20260426T163000
LOCATION:Zwickauer Str. 11\, 09112 Chemnitz
BEGIN:VALARM
ACTION:DISPLAY
DESCRIPTION:Erinnerung: Hoppers beginnt in 1 Stunde
TRIGGER;RELATED=END:-PT1H
END:VALARM
END:VEVENT
END:VCALENDAR
