BEGIN:VCALENDAR
PRODID:-//eluceo/ical//2.0/EN
VERSION:2.0
CALSCALE:GREGORIAN
BEGIN:VEVENT
UID:2e1d99e285c2fec8a1b3d9333a0b2cad
DTSTAMP:20260424T002423Z
SUMMARY:Jazzy - Chaos im Regenwald
DESCRIPTION:Jazzy\, ein Orang-Utan-Mädchen\, wird durch einen verheerenden
  Waldbrand von ihren Eltern getrennt und findet im Reservat neue Freunde\,
  doch der Verlust treibt sie an\, sich auf die Suche nach ihrer Familie zu
  machen und gleichzeitig den Regenwald zu retten.
URL:https://www.meinplaner.com
DTSTART;TZID=Europe/Amsterdam:20260424T145000
DTEND;TZID=Europe/Amsterdam:20260424T165000
LOCATION:Poetenweg 6-8\, 08056 Zwickau
BEGIN:VALARM
ACTION:DISPLAY
DESCRIPTION:Erinnerung: Jazzy - Chaos im Regenwald beginnt in 1 Stunde
TRIGGER;RELATED=END:-PT1H
END:VALARM
END:VEVENT
END:VCALENDAR
