BEGIN:VCALENDAR
PRODID:-//eluceo/ical//2.0/EN
VERSION:2.0
CALSCALE:GREGORIAN
BEGIN:VEVENT
UID:fd2f0d50571062f4eeb9b659b3e42fd8
DTSTAMP:20260419T153205Z
SUMMARY:Wochenend-Frühstück im Sweet Sophie
DESCRIPTION: Jeden Samstag und Sonntag lockt ein Frühstück der Extraklass
 e mit frischen Brötchen\, hausgemachter Marmelade\, regionalen Wurst- und
  Käsespezialitäten sowie frisch zubereitetem Rührei oder Spiegelei – 
 ein Fest für Genießer.
URL:https://www.meinplaner.com
DTSTART;TZID=Europe/Amsterdam:20260425T090000
DTEND;TZID=Europe/Amsterdam:20260425T120000
LOCATION:Peniger Str. 10\, 08396 Waldenburg
BEGIN:VALARM
ACTION:DISPLAY
DESCRIPTION:Erinnerung: Wochenend-Frühstück im Sweet Sophie beginnt in 1 
 Stunde
TRIGGER;RELATED=END:-PT1H
END:VALARM
END:VEVENT
END:VCALENDAR
