BEGIN:VCALENDAR
PRODID:-//eluceo/ical//2.0/EN
VERSION:2.0
CALSCALE:GREGORIAN
BEGIN:VEVENT
UID:7b5435673a1b1ecb8cf07695f9fa11c0
DTSTAMP:20260419T163357Z
SUMMARY:Mädelsabend
DESCRIPTION:Wo ist der perfekte Ort\, um mit besten Freundinnen einen unver
 gesslichen Abend zu verbringen? Im herrlich gelegenen Restaurant Miramar! 
 Zum exklusiven Mädelsabend montags verwöhnt die Freundinnen zu jedem Hau
 ptgericht eine kostenlose kleine Schwarzbierbowle.
URL:https://www.meinplaner.com
DTSTART;TZID=Europe/Amsterdam:20260420T180000
DTEND;TZID=Europe/Amsterdam:20260420T200000
LOCATION:Schloßberg 16\, 09113 Chemnitz
BEGIN:VALARM
ACTION:DISPLAY
DESCRIPTION:Erinnerung: Mädelsabend beginnt in 1 Stunde
TRIGGER;RELATED=END:-PT1H
END:VALARM
END:VEVENT
END:VCALENDAR
