BEGIN:VCALENDAR
PRODID:-//eluceo/ical//2.0/EN
VERSION:2.0
CALSCALE:GREGORIAN
BEGIN:VEVENT
UID:2fb29a0e9f45bfe70307c503cc7d6711
DTSTAMP:20260424T072055Z
SUMMARY:CKB+4 – Neuaufnahmen
DESCRIPTION:Vier neue künstlerische Positionen erweitern die Ausstellung d
 es Chemnitzer Künstlerbundes. Malerei\, Grafik und Collage treffen auf un
 terschiedliche Generationen und eröffnen spannende Perspektiven zeitgenö
 ssischer Kunst. 🎨✨
URL:https://www.meinplaner.com
DTSTART;TZID=Europe/Amsterdam:20260429T110000
DTEND;TZID=Europe/Amsterdam:20260429T170000
LOCATION:Moritzstr. 19\, 09111 Chemnitz
BEGIN:VALARM
ACTION:DISPLAY
DESCRIPTION:Erinnerung: CKB+4 – Neuaufnahmen beginnt in 1 Stunde
TRIGGER;RELATED=END:-PT1H
END:VALARM
END:VEVENT
END:VCALENDAR
