BEGIN:VCALENDAR
PRODID:-//eluceo/ical//2.0/EN
VERSION:2.0
CALSCALE:GREGORIAN
BEGIN:VEVENT
UID:ab45bb2c68724f4f9ae9d4c3d5534a59
DTSTAMP:20260422T054555Z
SUMMARY:Bridgerton Musik bei Kerzenschein
DESCRIPTION:Ein Abend voller Romantik: Ein Streichquartett interpretiert be
 kannte Melodien aus der Serie in stimmungsvoller Atmosphäre bei Kerzensch
 ein. Ergänzt wird das Erlebnis durch Einblicke in ausgewählte Räume des
  Schlosses.
URL:https://www.meinplaner.com
DTSTART;TZID=Europe/Amsterdam:20260522T190000
DTEND;TZID=Europe/Amsterdam:20260522T201500
LOCATION:Sörnziger Weg 1\, 09306 Rochlitz
BEGIN:VALARM
ACTION:DISPLAY
DESCRIPTION:Erinnerung: Bridgerton Musik bei Kerzenschein beginnt in 1 Stun
 de
TRIGGER;RELATED=END:-PT1H
END:VALARM
END:VEVENT
BEGIN:VEVENT
UID:188526230707e9ee84154684f57803f5
DTSTAMP:20260422T054555Z
SUMMARY:Bridgerton Musik bei Kerzenschein
DESCRIPTION:Ein Abend voller Romantik: Ein Streichquartett interpretiert be
 kannte Melodien aus der Serie in stimmungsvoller Atmosphäre bei Kerzensch
 ein. Ergänzt wird das Erlebnis durch Einblicke in ausgewählte Räume des
  Schlosses.
URL:https://www.meinplaner.com
DTSTART;TZID=Europe/Amsterdam:20260522T210000
DTEND;TZID=Europe/Amsterdam:20260522T221500
LOCATION:Sörnziger Weg 1\, 09306 Rochlitz
BEGIN:VALARM
ACTION:DISPLAY
DESCRIPTION:Erinnerung: Bridgerton Musik bei Kerzenschein beginnt in 1 Stun
 de
TRIGGER;RELATED=END:-PT1H
END:VALARM
END:VEVENT
END:VCALENDAR
