BEGIN:VCALENDAR
PRODID:-//eluceo/ical//2.0/EN
VERSION:2.0
CALSCALE:GREGORIAN
BEGIN:VEVENT
UID:6eda2b38825e28c429bbcd29b3b7ae2e
DTSTAMP:20260423T161220Z
SUMMARY:Apéro in der Galerie
DESCRIPTION:Ein entspannter Apéro-Abend in der Galerie: Bei Snacks und Get
 ränken entsteht Raum für Begegnungen\, Gespräche und neue Perspektiven.
  Kunst genießen\, sich austauschen und gemeinsam einen inspirierenden Abe
 nd erleben – in lockerer Atmosphäre und kreativem Umfeld
URL:https://www.meinplaner.com
DTSTART;TZID=Europe/Amsterdam:20260423T180000
DTEND;TZID=Europe/Amsterdam:20260423T200000
LOCATION:Annaberger Str. (im Wirkbau) 73\, 09111 Chemnitz
BEGIN:VALARM
ACTION:DISPLAY
DESCRIPTION:Erinnerung: Apéro in der Galerie beginnt in 1 Stunde
TRIGGER;RELATED=END:-PT1H
END:VALARM
END:VEVENT
END:VCALENDAR
