BEGIN:VCALENDAR
PRODID:-//eluceo/ical//2.0/EN
VERSION:2.0
CALSCALE:GREGORIAN
BEGIN:VEVENT
UID:c6c00541fdb066ce6626b74b8494a576
DTSTAMP:20260419T135839Z
SUMMARY:Die drei ??? - Toteninsel
DESCRIPTION:Die Sommerferien beginnen für Justus\, Peter und Bob turbulent
 : Ein mysteriöser Anruf führt sie zu einem geheimen Bund\, der illegale 
 Ausgrabungen auf der Vulkaninsel Makatao betreibt. Düstere Legenden und r
 ätselhafte Gefahren warten. 
URL:https://www.meinplaner.com
DTSTART;TZID=Europe/Amsterdam:20260419T150000
DTEND;TZID=Europe/Amsterdam:20260419T170000
LOCATION:Poetenweg 6-8\, 08056 Zwickau
BEGIN:VALARM
ACTION:DISPLAY
DESCRIPTION:Erinnerung: Die drei ??? - Toteninsel beginnt in 1 Stunde
TRIGGER;RELATED=END:-PT1H
END:VALARM
END:VEVENT
END:VCALENDAR
