BEGIN:VCALENDAR
PRODID:-//eluceo/ical//2.0/EN
VERSION:2.0
CALSCALE:GREGORIAN
BEGIN:VEVENT
UID:6cf4c183fd48fedecd1be7e86a20a076
DTSTAMP:20260424T210307Z
SUMMARY:Michael
DESCRIPTION:Der Film beleuchtet Michael Jacksons faszinierendes Leben\, von
  den Anfängen als Leadsänger der Jackson Five bis zu seinem Aufstieg als
  visionärer Künstler und gewährt einen einzigartigen Einblick in seine 
 legendären Auftritte und das Leben abseits der Bühne.
URL:https://www.meinplaner.com
DTSTART;TZID=Europe/Amsterdam:20260425T150000
DTEND;TZID=Europe/Amsterdam:20260425T170000
LOCATION:Neustädter Ring  2\, 08340 Schwarzenberg/Erzgeb.
BEGIN:VALARM
ACTION:DISPLAY
DESCRIPTION:Erinnerung: Michael beginnt in 1 Stunde
TRIGGER;RELATED=END:-PT1H
END:VALARM
END:VEVENT
BEGIN:VEVENT
UID:17bd6dda796c00381e5036a446510c28
DTSTAMP:20260424T210307Z
SUMMARY:Michael
DESCRIPTION:Der Film beleuchtet Michael Jacksons faszinierendes Leben\, von
  den Anfängen als Leadsänger der Jackson Five bis zu seinem Aufstieg als
  visionärer Künstler und gewährt einen einzigartigen Einblick in seine 
 legendären Auftritte und das Leben abseits der Bühne.
URL:https://www.meinplaner.com
DTSTART;TZID=Europe/Amsterdam:20260425T201500
DTEND;TZID=Europe/Amsterdam:20260425T221500
LOCATION:Neustädter Ring  2\, 08340 Schwarzenberg/Erzgeb.
BEGIN:VALARM
ACTION:DISPLAY
DESCRIPTION:Erinnerung: Michael beginnt in 1 Stunde
TRIGGER;RELATED=END:-PT1H
END:VALARM
END:VEVENT
BEGIN:VEVENT
UID:6685623a20ded0b957ebd75abc280013
DTSTAMP:20260424T210307Z
SUMMARY:Michael
DESCRIPTION:Der Film beleuchtet Michael Jacksons faszinierendes Leben\, von
  den Anfängen als Leadsänger der Jackson Five bis zu seinem Aufstieg als
  visionärer Künstler und gewährt einen einzigartigen Einblick in seine 
 legendären Auftritte und das Leben abseits der Bühne.
URL:https://www.meinplaner.com
DTSTART;TZID=Europe/Amsterdam:20260425T173000
DTEND;TZID=Europe/Amsterdam:20260425T193000
LOCATION:Neustädter Ring  2\, 08340 Schwarzenberg/Erzgeb.
BEGIN:VALARM
ACTION:DISPLAY
DESCRIPTION:Erinnerung: Michael beginnt in 1 Stunde
TRIGGER;RELATED=END:-PT1H
END:VALARM
END:VEVENT
END:VCALENDAR
