BEGIN:VCALENDAR
PRODID:-//eluceo/ical//2.0/EN
VERSION:2.0
CALSCALE:GREGORIAN
BEGIN:VEVENT
UID:a0f34a6b4c7afc8e13f56cbefb99075a
DTSTAMP:20260421T091045Z
SUMMARY:geführte Wanderung entlang des Bäderweges nach Wolkenstein
DESCRIPTION:Eine geführte Wanderung entlang des Bäderweges nach Wolkenste
 in OT Schönbrunn bietet die Möglichkeit zum individuellen Kaffeetrinken\
 , während die Rückfahrt bequem mit der Erzgebirgsbahn erfolgt.
URL:https://www.meinplaner.com
DTSTART;TZID=Europe/Amsterdam:20260425T123000
DTEND;TZID=Europe/Amsterdam:20260425T143000
LOCATION:Freiberger Str. 33\, 09488 Thermalbad Wiesenbad
BEGIN:VALARM
ACTION:DISPLAY
DESCRIPTION:Erinnerung: geführte Wanderung entlang des Bäderweges nach Wo
 lkenstein beginnt in 1 Stunde
TRIGGER;RELATED=END:-PT1H
END:VALARM
END:VEVENT
END:VCALENDAR
