BEGIN:VCALENDAR
PRODID:-//eluceo/ical//2.0/EN
VERSION:2.0
CALSCALE:GREGORIAN
BEGIN:VEVENT
UID:f92b0d91eb80c607148bfe0cb6d0106d
DTSTAMP:20260423T165324Z
SUMMARY:Theaterkurs für Kinder (6-10 Jahre)
DESCRIPTION:Spielerisch Theater entdecken: Kinder schlüpfen in verschieden
 e Rollen\, verbinden Sprache und Bewegung und sammeln erste Bühnenerfahru
 ngen. Ein kreativer Kurs zum Ausprobieren und Mitmachen.
URL:https://www.meinplaner.com
DTSTART;TZID=Europe/Amsterdam:20260428T153000
DTEND;TZID=Europe/Amsterdam:20260428T163000
LOCATION:Zietenstr. 32\, 09130 Chemnitz
BEGIN:VALARM
ACTION:DISPLAY
DESCRIPTION:Erinnerung: Theaterkurs für Kinder (6-10 Jahre) beginnt in 1 S
 tunde
TRIGGER;RELATED=END:-PT1H
END:VALARM
END:VEVENT
END:VCALENDAR
