BEGIN:VCALENDAR
PRODID:-//eluceo/ical//2.0/EN
VERSION:2.0
CALSCALE:GREGORIAN
BEGIN:VEVENT
UID:a42ba35df0b7cbb77a79e310bc992f75
DTSTAMP:20260421T233849Z
SUMMARY:Keramik nach eigenen Ideen in herrlichen Farben bemalen
DESCRIPTION:Alles was man zum Bemalen braucht\, wartet auf kreative Keramik
 liebhaber. Die ungiftigen Farben (70 div.) lassen sich leicht mit Wasser e
 ntfernen! Noch am selben Tag wird glasiert & gebrannt und das Produkt kann
  spätestens nach 7 bis 10 Tagen abgeholt werden.\n\n
URL:https://www.meinplaner.com
DTSTART;TZID=Europe/Amsterdam:20260422T120000
DTEND;TZID=Europe/Amsterdam:20260422T200000
LOCATION:Str. der Nationen  92\, 09111 Chemnitz
BEGIN:VALARM
ACTION:DISPLAY
DESCRIPTION:Erinnerung: Keramik nach eigenen Ideen in herrlichen Farben bem
 alen beginnt in 1 Stunde
TRIGGER;RELATED=END:-PT1H
END:VALARM
END:VEVENT
END:VCALENDAR
