BEGIN:VCALENDAR
PRODID:-//eluceo/ical//2.0/EN
VERSION:2.0
CALSCALE:GREGORIAN
BEGIN:VEVENT
UID:9e7eec5f536426970c865c46a0da9c22
DTSTAMP:20260424T215858Z
SUMMARY:Lee Cronin‘s The Mummy
DESCRIPTION:Das scheinbar perfekte Familienglück von Charlie und seiner Fr
 au wird auf die Probe gestellt\, als ihre Tochter Katie nach einem mysteri
 ösen Fluch verschwindet\, nur um Jahre später mit einer dunklen Macht zu
 rückzukehren und die Familie in Gefahr zu bringen.
URL:https://www.meinplaner.com
DTSTART;TZID=Europe/Amsterdam:20260424T223000
DTEND;TZID=Europe/Amsterdam:20260424T003000
LOCATION:Poetenweg 6-8\, 08056 Zwickau
BEGIN:VALARM
ACTION:DISPLAY
DESCRIPTION:Erinnerung: Lee Cronin‘s The Mummy beginnt in 1 Stunde
TRIGGER;RELATED=END:-PT1H
END:VALARM
END:VEVENT
BEGIN:VEVENT
UID:5734e665f4567c6450ccb7e2405a4e73
DTSTAMP:20260424T215858Z
SUMMARY:Lee Cronin‘s The Mummy
DESCRIPTION:Das scheinbar perfekte Familienglück von Charlie und seiner Fr
 au wird auf die Probe gestellt\, als ihre Tochter Katie nach einem mysteri
 ösen Fluch verschwindet\, nur um Jahre später mit einer dunklen Macht zu
 rückzukehren und die Familie in Gefahr zu bringen.
URL:https://www.meinplaner.com
DTSTART;TZID=Europe/Amsterdam:20260424T195000
DTEND;TZID=Europe/Amsterdam:20260424T215000
LOCATION:Poetenweg 6-8\, 08056 Zwickau
BEGIN:VALARM
ACTION:DISPLAY
DESCRIPTION:Erinnerung: Lee Cronin‘s The Mummy beginnt in 1 Stunde
TRIGGER;RELATED=END:-PT1H
END:VALARM
END:VEVENT
BEGIN:VEVENT
UID:426122b456f93024522c8be44e1a845d
DTSTAMP:20260424T215858Z
SUMMARY:Lee Cronin‘s The Mummy
DESCRIPTION:Das scheinbar perfekte Familienglück von Charlie und seiner Fr
 au wird auf die Probe gestellt\, als ihre Tochter Katie nach einem mysteri
 ösen Fluch verschwindet\, nur um Jahre später mit einer dunklen Macht zu
 rückzukehren und die Familie in Gefahr zu bringen.
URL:https://www.meinplaner.com
DTSTART;TZID=Europe/Amsterdam:20260424T171500
DTEND;TZID=Europe/Amsterdam:20260424T191500
LOCATION:Poetenweg 6-8\, 08056 Zwickau
BEGIN:VALARM
ACTION:DISPLAY
DESCRIPTION:Erinnerung: Lee Cronin‘s The Mummy beginnt in 1 Stunde
TRIGGER;RELATED=END:-PT1H
END:VALARM
END:VEVENT
END:VCALENDAR
