BEGIN:VCALENDAR
PRODID:-//eluceo/ical//2.0/EN
VERSION:2.0
CALSCALE:GREGORIAN
BEGIN:VEVENT
UID:89917a0d6e770e705ea9f92e1e026607
DTSTAMP:20260424T135125Z
SUMMARY:Purple Path: Redfort-Braided Journey
DESCRIPTION:Das Designkollektiv Redfort verbindet traditionelle Handwerksku
 nst mit zeitgenössischem Design. Die Installation aus lichtdurchlässigem
  Stahldraht erinnert an erzgebirgische Klöppelspitze und schlägt einen B
 ogen von Barbara Uthmann zur Zukunft des Standorts.
URL:https://www.meinplaner.com
DTSTART;TZID=Europe/Amsterdam:20260424T090000
DTEND;TZID=Europe/Amsterdam:20260424T210000
LOCATION:Unterer Bahnhof \, 09456 Annaberg-Buchholz
BEGIN:VALARM
ACTION:DISPLAY
DESCRIPTION:Erinnerung: Purple Path: Redfort-Braided Journey beginnt in 1 S
 tunde
TRIGGER;RELATED=END:-PT1H
END:VALARM
END:VEVENT
END:VCALENDAR
