BEGIN:VCALENDAR
PRODID:-//eluceo/ical//2.0/EN
VERSION:2.0
CALSCALE:GREGORIAN
BEGIN:VEVENT
UID:a40aa60ac84df557d0bba5ce5b3cff2c
DTSTAMP:20260420T154251Z
SUMMARY:Schon wieder Hochzeitstag
DESCRIPTION:Ein frisch verliebtes und ein lang verheiratetes Paar treffen z
 ufällig aufeinander. Da sind Spannung\, Spaß und ein heilloses Durcheina
 nder vorprogrammiert. Dazu noch eine Wirtin\, die bei jedem aufkommenden S
 turm für alle "gute Ratschläge" parat hat.
URL:https://www.meinplaner.com
DTSTART;TZID=Europe/Amsterdam:20260503T180000
DTEND;TZID=Europe/Amsterdam:20260503T200000
LOCATION:Eislebener Str. 8\, 09126 Chemnitz
BEGIN:VALARM
ACTION:DISPLAY
DESCRIPTION:Erinnerung: Schon wieder Hochzeitstag beginnt in 1 Stunde
TRIGGER;RELATED=END:-PT1H
END:VALARM
END:VEVENT
END:VCALENDAR
