BEGIN:VCALENDAR
PRODID:-//eluceo/ical//2.0/EN
VERSION:2.0
CALSCALE:GREGORIAN
BEGIN:VEVENT
UID:f0c8b1657dd2cb2f621bd40d4e8c1eb1
DTSTAMP:20260421T225735Z
SUMMARY:Auf leisen Sohlen... Geschichten zum Zuhören
DESCRIPTION:Vorlesepaten lesen neueste Kinderbücher\, Klassiker\, Bestsell
 er der eigenen Kinderzeit oder auch selbst geschriebene Texte.
URL:https://www.meinplaner.com
DTSTART;TZID=Europe/Amsterdam:20260428T163000
DTEND;TZID=Europe/Amsterdam:20260428T183000
LOCATION:Scharnhorststraße 11\, 09130 Chemnitz
BEGIN:VALARM
ACTION:DISPLAY
DESCRIPTION:Erinnerung: Auf leisen Sohlen... Geschichten zum Zuhören begin
 nt in 1 Stunde
TRIGGER;RELATED=END:-PT1H
END:VALARM
END:VEVENT
END:VCALENDAR
