BEGIN:VCALENDAR
PRODID:-//eluceo/ical//2.0/EN
VERSION:2.0
CALSCALE:GREGORIAN
BEGIN:VEVENT
UID:7a143e8016aea60694d4b5a047287019
DTSTAMP:20260420T195033Z
SUMMARY:Trauerbrot
DESCRIPTION:Nach dem letzten schweren Gang bietet das Werkhaus die Möglich
 keit\, in einem niveauvollen Ambiente gemeinsam zusammenzusitzen\, an den 
 Verstorbenen zu denken und bei einer liebevollen Kaffeetafel mit Schnittch
 en oder Suppe ein klein wenig Trost zu finden.
URL:https://www.meinplaner.com
DTSTART;TZID=Europe/Amsterdam:20260421T100000
DTEND;TZID=Europe/Amsterdam:20260421T180000
LOCATION:Karlsbaderstraße 113\, 08289 Schneeberg
BEGIN:VALARM
ACTION:DISPLAY
DESCRIPTION:Erinnerung: Trauerbrot beginnt in 1 Stunde
TRIGGER;RELATED=END:-PT1H
END:VALARM
END:VEVENT
END:VCALENDAR
