BEGIN:VCALENDAR
PRODID:-//eluceo/ical//2.0/EN
VERSION:2.0
CALSCALE:GREGORIAN
BEGIN:VEVENT
UID:4cb1efae8bf1d8159235a0e9ae2be043
DTSTAMP:20260423T161102Z
SUMMARY:Cafete
DESCRIPTION:Egal ob man sich vor Ort was kauft oder selbst Essen und Geträ
 nke mitbringt\, das Cafete lädt dazu ein\, sich einfach zu entspannen\, z
 u lesen oder zu schreiben.  Wenn man mithelfen möchte\, soll man einfach 
 beim Tresen Bescheid geben.
URL:https://www.meinplaner.com
DTSTART;TZID=Europe/Amsterdam:20260429T150000
DTEND;TZID=Europe/Amsterdam:20260429T170000
LOCATION:Vettersstr. 34a\, 09126 Chemnitz
BEGIN:VALARM
ACTION:DISPLAY
DESCRIPTION:Erinnerung: Cafete beginnt in 1 Stunde
TRIGGER;RELATED=END:-PT1H
END:VALARM
END:VEVENT
END:VCALENDAR
