BEGIN:VCALENDAR
PRODID:-//eluceo/ical//2.0/EN
VERSION:2.0
CALSCALE:GREGORIAN
BEGIN:VEVENT
UID:1908d1cb68b43ececb93461089be4966
DTSTAMP:20260424T123024Z
SUMMARY:Tanztee
DESCRIPTION:Der Tanztee bietet einen geselligen Nachmittag mit beliebten Kl
 assikern. Livegesang und Keyboard von Mario Holtzhauer und Ladislav Virag 
 begleiten Tanz und Genuss\, dazu gibt es Kuchen und Torten aus der hauseig
 enen Konditorei.
URL:https://www.meinplaner.com
DTSTART;TZID=Europe/Amsterdam:20260430T150000
DTEND;TZID=Europe/Amsterdam:20260430T173000
LOCATION:Obervorwerk  1\, 09514 Pockau-Lengefeld
BEGIN:VALARM
ACTION:DISPLAY
DESCRIPTION:Erinnerung: Tanztee beginnt in 1 Stunde
TRIGGER;RELATED=END:-PT1H
END:VALARM
END:VEVENT
END:VCALENDAR
