BEGIN:VCALENDAR
PRODID:-//eluceo/ical//2.0/EN
VERSION:2.0
CALSCALE:GREGORIAN
BEGIN:VEVENT
UID:b7fe277c5e89670cac38c85ac789f22b
DTSTAMP:20260423T140824Z
SUMMARY:Naturmarkt
DESCRIPTION:Der Markt bietet ein regionales Angebot aus ökologischer Landw
 irtschaft und traditionellem Handwerk direkt vom Hersteller. Neben zahlrei
 chen kulinarischen Spezialitäten gibt es eine Auswahl an Pflanzen\, Schmu
 ck\, Bekleidung und Upcycling-Dekorationen.
URL:https://www.meinplaner.com
DTSTART;TZID=Europe/Amsterdam:20260501T100000
DTEND;TZID=Europe/Amsterdam:20260501T170000
LOCATION:Wasserschloßweg 6\, 09123 Chemnitz
BEGIN:VALARM
ACTION:DISPLAY
DESCRIPTION:Erinnerung: Naturmarkt beginnt in 1 Stunde
TRIGGER;RELATED=END:-PT1H
END:VALARM
END:VEVENT
END:VCALENDAR
