BEGIN:VCALENDAR
PRODID:-//eluceo/ical//2.0/EN
VERSION:2.0
CALSCALE:GREGORIAN
BEGIN:VEVENT
UID:d8fd969fc3c0001298fc1f8db50deb8a
DTSTAMP:20260424T222035Z
SUMMARY:Blumen- und Pflanzenmarkt
DESCRIPTION:Der Marktplatz Schneeberg erblüht: Beim Blumen- und Pflanzenma
 rkt erwartet die Kunden eine farbenfrohe Vielfalt\, duftende Blüten und d
 ie Gelegenheit\, die Natur in ihrer schönsten Form zu erleben.
URL:https://www.meinplaner.com
DTSTART;TZID=Europe/Amsterdam:20260509T100000
DTEND;TZID=Europe/Amsterdam:20260509T120000
LOCATION:Markt 1\, 08289 Schneeberg
BEGIN:VALARM
ACTION:DISPLAY
DESCRIPTION:Erinnerung: Blumen- und Pflanzenmarkt beginnt in 1 Stunde
TRIGGER;RELATED=END:-PT1H
END:VALARM
END:VEVENT
END:VCALENDAR
