BEGIN:VCALENDAR
PRODID:-//eluceo/ical//2.0/EN
VERSION:2.0
CALSCALE:GREGORIAN
BEGIN:VEVENT
UID:d6b98d9e275cbada4f0e11ad295078d9
DTSTAMP:20260425T154729Z
SUMMARY:Ausstellung: Leglers Frühlingsfiguren\, HoDrewa Rothenthal
DESCRIPTION:Tradition trifft Gegenwart: Eine Ausstellung zur erzgebirgische
 n Handwerkskunst der Firma Holz- und Drechslerwaren Jan Legler e.K. zeigt 
 Nussknacker\, Räuchermänner und Pyramiden aus traditioneller Fertigung 
 – vom Familienbetrieb bis zur modernen Produktion.
URL:https://www.meinplaner.com
DTSTART;TZID=Europe/Amsterdam:20260426T130000
DTEND;TZID=Europe/Amsterdam:20260426T160000
LOCATION:Bahnhofstr. 1\, 09496 Marienberg
BEGIN:VALARM
ACTION:DISPLAY
DESCRIPTION:Erinnerung: Ausstellung: Leglers Frühlingsfiguren\, HoDrewa Ro
 thenthal beginnt in 1 Stunde
TRIGGER;RELATED=END:-PT1H
END:VALARM
END:VEVENT
END:VCALENDAR
