BEGIN:VCALENDAR
PRODID:-//eluceo/ical//2.0/EN
VERSION:2.0
CALSCALE:GREGORIAN
BEGIN:VEVENT
UID:9b2630018a2d7ae5555a4eb164ca4706
DTSTAMP:20260420T190416Z
SUMMARY:Offener Sportsonntag für Familien
DESCRIPTION:Kindern und ihren Eltern wird auf spielerische Weise Freude an 
 Bewegung vermittelt. Für die Teilnahme braucht es keine Vorkenntnisse\, s
 ondern man kann einfach mitmachen. Turnschuhe\, bewegungsfreundliche Kleid
 ung und eine Trinkflasche sind mitzubringen.
URL:https://www.meinplaner.com
DTSTART;TZID=Europe/Amsterdam:20260503T093000
DTEND;TZID=Europe/Amsterdam:20260503T113000
LOCATION:Straße Usti nad Labem 279\, 09119 Chemnitz
BEGIN:VALARM
ACTION:DISPLAY
DESCRIPTION:Erinnerung: Offener Sportsonntag für Familien beginnt in 1 Stu
 nde
TRIGGER;RELATED=END:-PT1H
END:VALARM
END:VEVENT
END:VCALENDAR
