BEGIN:VCALENDAR
PRODID:-//eluceo/ical//2.0/EN
VERSION:2.0
CALSCALE:GREGORIAN
BEGIN:VEVENT
UID:2af3ff7dbf9c3e882178bfbf4dd1c002
DTSTAMP:20260425T221858Z
SUMMARY:Autorenlesung: Erzgebirgsstürme
DESCRIPTION:Karl-Heinz Binus liest aus seinem Kriminalroman 'Erzgebirgsstü
 rme'.  Ein signiertes Buch kann nach der Lesung erworben werden.
URL:https://www.meinplaner.com
DTSTART;TZID=Europe/Amsterdam:20260426T190000
DTEND;TZID=Europe/Amsterdam:20260426T210000
LOCATION:Freiberger Str. 33\, 09488 Thermalbad Wiesenbad
BEGIN:VALARM
ACTION:DISPLAY
DESCRIPTION:Erinnerung: Autorenlesung: Erzgebirgsstürme beginnt in 1 Stund
 e
TRIGGER;RELATED=END:-PT1H
END:VALARM
END:VEVENT
END:VCALENDAR
