BEGIN:VCALENDAR
PRODID:-//eluceo/ical//2.0/EN
VERSION:2.0
CALSCALE:GREGORIAN
BEGIN:VEVENT
UID:c390367e8d911636ad9d05727523119c
DTSTAMP:20260421T102432Z
SUMMARY:Kreatives Sushi-Erlebnis in stilvollem Ambiente
DESCRIPTION:Moli Moto in Chemnitz bietet ein einzigartiges Sushi-Erlebnis m
 it frischen Zutaten und kreativen Kreationen. In einer modernen\, einladen
 den Atmosphäre genießen Gäste authentische japanische Küche – perfek
 t für jeden\, der Genuss und Qualität schätzt.
URL:https://www.meinplaner.com
DTSTART;TZID=Europe/Amsterdam:20260421T173000
DTEND;TZID=Europe/Amsterdam:20260421T220000
LOCATION:Markt 19\, 09111 Chemnitz
BEGIN:VALARM
ACTION:DISPLAY
DESCRIPTION:Erinnerung: Kreatives Sushi-Erlebnis in stilvollem Ambiente beg
 innt in 1 Stunde
TRIGGER;RELATED=END:-PT1H
END:VALARM
END:VEVENT
BEGIN:VEVENT
UID:200655564902b5155fd596365b00f033
DTSTAMP:20260421T102432Z
SUMMARY:Kreatives Sushi-Erlebnis in stilvollem Ambiente
DESCRIPTION:Moli Moto in Chemnitz bietet ein einzigartiges Sushi-Erlebnis m
 it frischen Zutaten und kreativen Kreationen. In einer modernen\, einladen
 den Atmosphäre genießen Gäste authentische japanische Küche – perfek
 t für jeden\, der Genuss und Qualität schätzt.
URL:https://www.meinplaner.com
DTSTART;TZID=Europe/Amsterdam:20260421T113000
DTEND;TZID=Europe/Amsterdam:20260421T143000
LOCATION:Markt 19\, 09111 Chemnitz
BEGIN:VALARM
ACTION:DISPLAY
DESCRIPTION:Erinnerung: Kreatives Sushi-Erlebnis in stilvollem Ambiente beg
 innt in 1 Stunde
TRIGGER;RELATED=END:-PT1H
END:VALARM
END:VEVENT
END:VCALENDAR
