BEGIN:VCALENDAR
PRODID:-//eluceo/ical//2.0/EN
VERSION:2.0
CALSCALE:GREGORIAN
BEGIN:VEVENT
UID:9647f0ab745e77ca7cc14a5d0f11fde6
DTSTAMP:20260425T110811Z
SUMMARY:Musik & Mode & Essen
DESCRIPTION:Köstliches Essen\, stimmungsvolle Musik und eine Modenschau mi
 t Kreationen der Mode-Scala aus Aue und der Musikerin Sandra– ein Tag vo
 ller Stil\, Genuss und Inspiration erwartet die Gäste.
URL:https://www.meinplaner.com
DTSTART;TZID=Europe/Amsterdam:20260522T180000
DTEND;TZID=Europe/Amsterdam:20260522T220000
LOCATION:Karlsbaderstraße 113\, 08289 Schneeberg
BEGIN:VALARM
ACTION:DISPLAY
DESCRIPTION:Erinnerung: Musik & Mode & Essen beginnt in 1 Stunde
TRIGGER;RELATED=END:-PT1H
END:VALARM
END:VEVENT
END:VCALENDAR
