BEGIN:VCALENDAR
PRODID:-//eluceo/ical//2.0/EN
VERSION:2.0
CALSCALE:GREGORIAN
BEGIN:VEVENT
UID:1fbda87a61b89769e1bc563774fe7d25
DTSTAMP:20260423T112558Z
SUMMARY:Bacaru in  Zwickaus grüner Natur-Tankstelle 
DESCRIPTION:Am Schwanenteich einen Kaffee trinken\, sich mit einem kühlen 
 Getränk erfrischen\, ein Eis schlecken und den Blick auf’s Wasser\, die
  große Wasserfontäne oder die Spitze des Doms genießen. Unmittelbar am 
 Gelände des Bootsverleihes liegt dieser wunderbare Ort.
URL:https://www.meinplaner.com
DTSTART;TZID=Europe/Amsterdam:20260423T140000
DTEND;TZID=Europe/Amsterdam:20260423T190000
LOCATION:Parkstr. 5A\, 08056 Zwickau
BEGIN:VALARM
ACTION:DISPLAY
DESCRIPTION:Erinnerung: Bacaru in  Zwickaus grüner Natur-Tankstelle  begin
 nt in 1 Stunde
TRIGGER;RELATED=END:-PT1H
END:VALARM
END:VEVENT
END:VCALENDAR
