BEGIN:VCALENDAR
PRODID:-//eluceo/ical//2.0/EN
VERSION:2.0
CALSCALE:GREGORIAN
BEGIN:VEVENT
UID:8e5189ec60b0d3fd98f4cd46199d262b
DTSTAMP:20260420T200037Z
SUMMARY:Ausstellung: Von da gesehen 
DESCRIPTION:Die Ausstellung vereint Arbeiten aus Malerei\, Grafik\, Fotogra
 fie und Design von sieben Kunstschaffenden mit gemeinsamen Wurzeln. Unters
 chiedliche Stile und Perspektiven zeigen eindrucksvoll individuelle Zugän
 ge zu gesellschaftlicher Wirklichkeit. 🎨🖼️
URL:https://www.meinplaner.com
DTSTART;TZID=Europe/Amsterdam:20260423T090000
DTEND;TZID=Europe/Amsterdam:20260423T170000
LOCATION:Untere  Hauptstr. 16\, 09376 Oelsnitz/Erzgeb.
BEGIN:VALARM
ACTION:DISPLAY
DESCRIPTION:Erinnerung: Ausstellung: Von da gesehen  beginnt in 1 Stunde
TRIGGER;RELATED=END:-PT1H
END:VALARM
END:VEVENT
END:VCALENDAR
