BEGIN:VCALENDAR
PRODID:-//eluceo/ical//2.0/EN
VERSION:2.0
CALSCALE:GREGORIAN
BEGIN:VEVENT
UID:317dd2ee73903d48dc1263e661328422
DTSTAMP:20260421T175107Z
SUMMARY:Gift im Becher? Serpentinstein als Allheilmittel
DESCRIPTION:Die Besucher erleben eine spannende Führung durch das Serpenti
 nsteinmuseum über die faszinierende Geschichte und Heilwirkung des besond
 eren Gesteins.
URL:https://www.meinplaner.com
DTSTART;TZID=Europe/Amsterdam:20260427T133000
DTEND;TZID=Europe/Amsterdam:20260427T150000
LOCATION:Bahnhofstr. 1\, 09496 Marienberg
BEGIN:VALARM
ACTION:DISPLAY
DESCRIPTION:Erinnerung: Gift im Becher? Serpentinstein als Allheilmittel be
 ginnt in 1 Stunde
TRIGGER;RELATED=END:-PT1H
END:VALARM
END:VEVENT
END:VCALENDAR
