BEGIN:VCALENDAR
PRODID:-//eluceo/ical//2.0/EN
VERSION:2.0
CALSCALE:GREGORIAN
BEGIN:VEVENT
UID:8d1122dd75933710d362711cce0e4bb2
DTSTAMP:20260419T214436Z
SUMMARY:Sichtbare Vielfalt. Religionen in Sachsen
DESCRIPTION:Die Ausstellung Sichtbare Vielfalt & Religionen in Sachsen zeig
 t anhand von acht Porträts die religiöse Vielfalt im Freistaat. Fotos\, 
 Texte & Videos geben Einblicke in gelebten Glauben verschiedener Gemeinsch
 aften – von jüdisch über muslimisch bis buddhistisch
URL:https://www.meinplaner.com
DTSTART;TZID=Europe/Amsterdam:20260501T070000
DTEND;TZID=Europe/Amsterdam:20260501T143000
LOCATION:Schneeberger Str.  82\, 08289 Schneeberg
BEGIN:VALARM
ACTION:DISPLAY
DESCRIPTION:Erinnerung: Sichtbare Vielfalt. Religionen in Sachsen beginnt i
 n 1 Stunde
TRIGGER;RELATED=END:-PT1H
END:VALARM
END:VEVENT
END:VCALENDAR
