BEGIN:VCALENDAR
PRODID:-//eluceo/ical//2.0/EN
VERSION:2.0
CALSCALE:GREGORIAN
BEGIN:VEVENT
UID:3d3f970249ffb55780547a2129b114b6
DTSTAMP:20260426T021726Z
SUMMARY:Spargelwochen
DESCRIPTION:Delikate Spargelgerichte gehören zu den zartesten Genüssen de
 s Frühlings. Die Köche des Restaurants Pelzmühle bereiten mit Talent un
 d Liebe köstliche Kreationen zu\, von traditionellen Spargelgerichten bis
  zu außergewöhnlichen kulinarischen Kombinationen.
URL:https://www.meinplaner.com
DTSTART;TZID=Europe/Amsterdam:20260426T110000
DTEND;TZID=Europe/Amsterdam:20260426T230000
LOCATION:Schloßberg 16\, 09113 Chemnitz
BEGIN:VALARM
ACTION:DISPLAY
DESCRIPTION:Erinnerung: Spargelwochen beginnt in 1 Stunde
TRIGGER;RELATED=END:-PT1H
END:VALARM
END:VEVENT
END:VCALENDAR
