BEGIN:VCALENDAR
PRODID:-//eluceo/ical//2.0/EN
VERSION:2.0
CALSCALE:GREGORIAN
BEGIN:VEVENT
UID:a1d14de0fce4891157698fbb4f64ca2f
DTSTAMP:20260420T104833Z
SUMMARY:Finnische Sauna\, Dampfbad & Sanarium
DESCRIPTION:Im besonderen Jugendstilambiente des Dr. Curt-Geithner Bads in 
 Schneeberg entspannt man besonders gut und gern und im kleinen Rahmen: Die
  Finnische Sauna bietet Platz für 15 Personen\, das Dampfbad für 8 Perso
 nen und das Sanarium für 10 Personen.
URL:https://www.meinplaner.com
DTSTART;TZID=Europe/Amsterdam:20260421T150000
DTEND;TZID=Europe/Amsterdam:20260421T170000
LOCATION:Amtsgerichtsstr. 1\, 08289 Schneeberg
BEGIN:VALARM
ACTION:DISPLAY
DESCRIPTION:Erinnerung: Finnische Sauna\, Dampfbad & Sanarium beginnt in 1 
 Stunde
TRIGGER;RELATED=END:-PT1H
END:VALARM
END:VEVENT
BEGIN:VEVENT
UID:0f0a0aab64fd69605ed261995a3d824d
DTSTAMP:20260420T104833Z
SUMMARY:Finnische Sauna\, Dampfbad & Sanarium
DESCRIPTION:Im besonderen Jugendstilambiente des Dr. Curt-Geithner Bads in 
 Schneeberg entspannt man besonders gut und gern und im kleinen Rahmen: Die
  Finnische Sauna bietet Platz für 15 Personen\, das Dampfbad für 8 Perso
 nen und das Sanarium für 10 Personen.
URL:https://www.meinplaner.com
DTSTART;TZID=Europe/Amsterdam:20260421T180000
DTEND;TZID=Europe/Amsterdam:20260421T200000
LOCATION:Amtsgerichtsstr. 1\, 08289 Schneeberg
BEGIN:VALARM
ACTION:DISPLAY
DESCRIPTION:Erinnerung: Finnische Sauna\, Dampfbad & Sanarium beginnt in 1 
 Stunde
TRIGGER;RELATED=END:-PT1H
END:VALARM
END:VEVENT
END:VCALENDAR
