BEGIN:VCALENDAR
PRODID:-//eluceo/ical//2.0/EN
VERSION:2.0
CALSCALE:GREGORIAN
BEGIN:VEVENT
UID:6d18c540059e552c417b7f8feaa07ed4
DTSTAMP:20260419T152518Z
SUMMARY:90er - 2000er Party
DESCRIPTION:Best of 90s & 2000s Night: Classic Bangers trifft Modern Vibes.
  Black\, RAP\, HipHop\, Dance Charts – alles\, was das Heartbeat der Jah
 re 1990–2000 vorgibt. DJ Jucy sorgen für Vollgas am Main Floor.
URL:https://www.meinplaner.com
DTSTART;TZID=Europe/Amsterdam:20260516T223000
DTEND;TZID=Europe/Amsterdam:20260517T040000
LOCATION:Olzmannstr. 51\, 08060 Zwickau
BEGIN:VALARM
ACTION:DISPLAY
DESCRIPTION:Erinnerung: 90er - 2000er Party beginnt in 1 Stunde
TRIGGER;RELATED=END:-PT1H
END:VALARM
END:VEVENT
END:VCALENDAR
