BEGIN:VCALENDAR
PRODID:-//eluceo/ical//2.0/EN
VERSION:2.0
CALSCALE:GREGORIAN
BEGIN:VEVENT
UID:4170a118a3be58f08bc8fce7624080f3
DTSTAMP:20260424T003024Z
SUMMARY:Maker-Festival UWE
DESCRIPTION:Das ehemalige Umspannwerk Etzdorf (UWE) wird zwei Tage lang zur
  Galerie. Internationale Künstler:innen und das Publikum gestalten live G
 raffitis\, Stencils und Wandbilder. Technikgeschichte trifft Kreativität 
 – ein begehbares Kunstwerk entsteht.
URL:https://www.meinplaner.com
DTSTART;TZID=Europe/Amsterdam:20260523T120000
DTEND;TZID=Europe/Amsterdam:20260523T220000
LOCATION:Waldheimer Str. 81\, 09661 Striegistal
BEGIN:VALARM
ACTION:DISPLAY
DESCRIPTION:Erinnerung: Maker-Festival UWE beginnt in 1 Stunde
TRIGGER;RELATED=END:-PT1H
END:VALARM
END:VEVENT
END:VCALENDAR
