BEGIN:VCALENDAR
PRODID:-//eluceo/ical//2.0/EN
VERSION:2.0
CALSCALE:GREGORIAN
BEGIN:VEVENT
UID:3b731d8a155da99702baa8fbc2440192
DTSTAMP:20260420T150325Z
SUMMARY:Das Drama - Noch mal auf Anfang
DESCRIPTION:Ein verliebtes Paar plant die perfekte Hochzeit. Kurz vor dem g
 roßen Tag wird ein Geheimnis enthüllt. Vertrauen bröckelt\, Vorfreude v
 erwandelt sich in Zweifel. Die Zukunft steht auf der Kippe\, während Erin
 nerungen und Hoffnungen auf die Probe gestellt werden.
URL:https://www.meinplaner.com
DTSTART;TZID=Europe/Amsterdam:20260420T171000
DTEND;TZID=Europe/Amsterdam:20260420T191000
LOCATION:Poetenweg 6-8\, 08056 Zwickau
BEGIN:VALARM
ACTION:DISPLAY
DESCRIPTION:Erinnerung: Das Drama - Noch mal auf Anfang beginnt in 1 Stunde
TRIGGER;RELATED=END:-PT1H
END:VALARM
END:VEVENT
BEGIN:VEVENT
UID:fae22958ead3121daf88972cd000520e
DTSTAMP:20260420T150325Z
SUMMARY:Das Drama - Noch mal auf Anfang
DESCRIPTION:Ein verliebtes Paar plant die perfekte Hochzeit. Kurz vor dem g
 roßen Tag wird ein Geheimnis enthüllt. Vertrauen bröckelt\, Vorfreude v
 erwandelt sich in Zweifel. Die Zukunft steht auf der Kippe\, während Erin
 nerungen und Hoffnungen auf die Probe gestellt werden.
URL:https://www.meinplaner.com
DTSTART;TZID=Europe/Amsterdam:20260420T200000
DTEND;TZID=Europe/Amsterdam:20260420T220000
LOCATION:Poetenweg 6-8\, 08056 Zwickau
BEGIN:VALARM
ACTION:DISPLAY
DESCRIPTION:Erinnerung: Das Drama - Noch mal auf Anfang beginnt in 1 Stunde
TRIGGER;RELATED=END:-PT1H
END:VALARM
END:VEVENT
END:VCALENDAR
