BEGIN:VCALENDAR
PRODID:-//eluceo/ical//2.0/EN
VERSION:2.0
CALSCALE:GREGORIAN
BEGIN:VEVENT
UID:41484ba7be9203e42179c6e8ec707cd5
DTSTAMP:20260423T165125Z
SUMMARY:Führung: Ein „Rosswerk“ als Bergbau-Schauanlage
DESCRIPTION:Neben der Vorführung der Göpelfunktion\, an den Wochenenden a
 uch mit Pferden\, gibt es eine historische Bergschmiede\, wo Spindelpresse
  und Schmiedefeuer mit Amboss präsentiert werden. Auch der Märchenberg d
 es Schnitzvereins ist zu bestaunen.
URL:https://www.meinplaner.com
DTSTART;TZID=Europe/Amsterdam:20260424T130000
DTEND;TZID=Europe/Amsterdam:20260424T150000
LOCATION:Lautaer Hauptstr. 12\, 09496 Marienberg
BEGIN:VALARM
ACTION:DISPLAY
DESCRIPTION:Erinnerung: Führung: Ein „Rosswerk“ als Bergbau-Schauanlag
 e beginnt in 1 Stunde
TRIGGER;RELATED=END:-PT1H
END:VALARM
END:VEVENT
BEGIN:VEVENT
UID:6a470e81b9c385748b292f60d07caf7a
DTSTAMP:20260423T165125Z
SUMMARY:Führung: Ein „Rosswerk“ als Bergbau-Schauanlage
DESCRIPTION:Neben der Vorführung der Göpelfunktion\, an den Wochenenden a
 uch mit Pferden\, gibt es eine historische Bergschmiede\, wo Spindelpresse
  und Schmiedefeuer mit Amboss präsentiert werden. Auch der Märchenberg d
 es Schnitzvereins ist zu bestaunen.
URL:https://www.meinplaner.com
DTSTART;TZID=Europe/Amsterdam:20260424T143000
DTEND;TZID=Europe/Amsterdam:20260424T163000
LOCATION:Lautaer Hauptstr. 12\, 09496 Marienberg
BEGIN:VALARM
ACTION:DISPLAY
DESCRIPTION:Erinnerung: Führung: Ein „Rosswerk“ als Bergbau-Schauanlag
 e beginnt in 1 Stunde
TRIGGER;RELATED=END:-PT1H
END:VALARM
END:VEVENT
END:VCALENDAR
